BEGIN:VCALENDAR
VERSION:2.0
PRODID:-//wp-events-plugin.com//7.2.3.1//EN
BEGIN:VEVENT
UID:34@airsoftonlinejapan.com
DTSTART:20260621T000000Z
DTEND:20260621T070000Z
DTSTAMP:20260304T021406Z
URL:https://airsoftonlinejapan.com/ja/%e3%82%a4%e3%83%99%e3%83%b3%e3%83%88
 /wild-west-game-at-no-9/
SUMMARY:Wild West Game at No.9
DESCRIPTION:This event will be handguns\, shotguns and bolt action or lever
  action rifles only and focused to close to mid-range combat for 20 people
  only.\n\nPlease do not bring any assault rifles or submachine guns as the
  theme is focused more on gas/co2 and air-cocking guns only.\n\nFeel free 
 to dress the part as a Wild West sheriff\, bandit\, bartender etc.
ATTACH;FMTTYPE=image/jpeg:https://i0.wp.com/airsoftonlinejapan.com/wp-cont
 ent/uploads/2026/03/254534C6-1EB4-4796-A8C7-62C3B6735B71.png?fit=1536%2C10
 24&ssl=1
CATEGORIES:Charter Game,Special Limited Event
LOCATION:Survival Game No.9\, 2517-1 Iwato\, Inzai\, Chiba\, 270-1616\, Kan
 to\, 日本
X-APPLE-STRUCTURED-LOCATION;VALUE=URI;X-ADDRESS=2517-1 Iwato\, Inzai\, Chib
 a\, 270-1616\, Kanto\, 日本;X-APPLE-RADIUS=100;X-TITLE=Survival Game No.
 9:geo:0,0
END:VEVENT
END:VCALENDAR