BEGIN:VCALENDAR
VERSION:2.0
PRODID:-//wp-events-plugin.com//7.2.3.1//EN
BEGIN:VEVENT
UID:31@airsoftonlinejapan.com
DTSTART:20260329T043000Z
DTEND:20260329T073000Z
DTSTAMP:20260204T045409Z
URL:https://airsoftonlinejapan.com/ja/%e3%82%a4%e3%83%99%e3%83%b3%e3%83%88
 /v2-aeg-gearbox-hopup-maintenance-training/
SUMMARY:V2 & V3 AEG Gearbox & Hopup Maintenance Training
DESCRIPTION:Join AOJ’s first hands-on technical training seminar led by N
 ineteen. Learn proper AEG gearbox and hop-up disassembly\, cleaning\, trou
 bleshooting\, and reliability-focused upgrades. Limited to 10 participants
  in Tokyo.
ATTACH;FMTTYPE=image/jpeg:https://i0.wp.com/airsoftonlinejapan.com/wp-cont
 ent/uploads/2026/01/ChatGPT-Image-Jan-14-2026-09_42_04-PM.png?fit=1536%2C1
 024&ssl=1
CATEGORIES:Gun Maintenance,Training Event
END:VEVENT
END:VCALENDAR