BEGIN:VCALENDAR
VERSION:2.0
PRODID:-//wp-events-plugin.com//7.2.3.1//EN
BEGIN:VEVENT
UID:35@airsoftonlinejapan.com
DTSTART:20260517T000000Z
DTEND:20260517T070000Z
DTSTAMP:20260405T143257Z
URL:https://airsoftonlinejapan.com/ja/%e3%82%a4%e3%83%99%e3%83%b3%e3%83%88
 /charter-game-at-cimax/
SUMMARY:Charter Game at CIMAX
DESCRIPTION:This month\, we're heading to CIMAX to try their alternate fiel
 d—without the massive slope—for a more active day of games\, with free
  pickup for all participants and homemade lunches available.
ATTACH;FMTTYPE=image/jpeg:https://i0.wp.com/airsoftonlinejapan.com/wp-cont
 ent/uploads/2025/09/IMG_8193.jpeg?fit=1477%2C1108&ssl=1
CATEGORIES:Charter Game
LOCATION:CIMAX\, 2300 Moroto\, Inzai\, Chiba\, 270-1615\, 日本
X-APPLE-STRUCTURED-LOCATION;VALUE=URI;X-ADDRESS=2300 Moroto\, Inzai\, Chiba
 \, 270-1615\, 日本;X-APPLE-RADIUS=100;X-TITLE=CIMAX:geo:0,0
END:VEVENT
END:VCALENDAR