BEGIN:VCALENDAR
VERSION:2.0
PRODID:-//wp-events-plugin.com//7.2.3.1//EN
BEGIN:VEVENT
UID:32@airsoftonlinejapan.com
DTSTART:20260405T030000Z
DTEND:20260405T080000Z
DTSTAMP:20260211T150554Z
URL:https://airsoftonlinejapan.com/ja/%e3%82%a4%e3%83%99%e3%83%b3%e3%83%88
 /aoj-hanami-2026/
SUMMARY:AOJ Hanami 2026 at Yoyogi Park
DESCRIPTION:Join Us for an AOJ Hanami Picnic in Yoyogi Park!｜毎年恒例
 AOJお花見（於：代々木公園）\nSpring is just around the corner\
 , and that means it’s time for Hanami! Celebrate the beauty of cherry bl
 ossoms with us on Sunday\, April 5th\, 2026\, at the scenic Yoyogi Park fo
 r a spring picnic.\nEvent Details:\n📅 Date: April 5\, 2026 (Sunday) | 2
 026年4月5日（日）\n⏰ Time: 12:00 - 17:00\n📍 Venue: Yoyogi Park 
 (exact location to be announced on the day)|代々木公園某所（詳細
 は当日場所取り後に共有します）\n💰 Price: Free (BYOB &amp
 \; bring food to share） | 無料（自分の飲食分はお持ちくだ
 さい)\n\nGather your friends\, pack your picnic blanket\, and get ready 
 for a day of relaxation\, laughter\, and great company under the sakura tr
 ees! Whether you want to bring your own food and drinks or enjoy delicious
  pre-prepared dishes\, this is the perfect way to welcome spring in Tokyo.
 \nHow to Join:\nAfter registering by clicking the button to attend\, show 
 up at Yoyogi Park anytime between 12:00-17:00 on the day! Follow our socia
 l media or event page for the exact location update on the morning of Marc
 h 30. Feel free to bring your families and friends—everyone is welcome! 
  See you there🌸🥂\n\n&nbsp\;\n
ATTACH;FMTTYPE=image/jpeg:https://i0.wp.com/airsoftonlinejapan.com/wp-cont
 ent/uploads/2025/01/Fountain_Yoyogipark.jpg?fit=1920%2C1079&ssl=1
CATEGORIES:Social Event
LOCATION:Yoyogi Park (Social Event)\, 2-1 Yoyogikamizonocho\, Shibuya\, Tok
 yo\, 151-0052\, 日本
X-APPLE-STRUCTURED-LOCATION;VALUE=URI;X-ADDRESS=2-1 Yoyogikamizonocho\, Shi
 buya\, Tokyo\, 151-0052\, 日本;X-APPLE-RADIUS=100;X-TITLE=Yoyogi Park (S
 ocial Event):geo:0,0
END:VEVENT
END:VCALENDAR