BEGIN:VCALENDAR
VERSION:2.0
PRODID:-//wp-events-plugin.com//7.2.3.1//EN
BEGIN:VEVENT
UID:33@airsoftonlinejapan.com
DTSTART:20260425T000000Z
DTEND:20260426T070000Z
DTSTAMP:20260419T042635Z
URL:https://airsoftonlinejapan.com/events/operation-shadow-strike-2/
SUMMARY:Charter Weekend at No.9 - Operation Shadow Strike II
DESCRIPTION:Operation Shadow Strike II: The Valkyerro Crisis is a story-dri
 ven light milsim airsoft event. Saturday features a main event with option
 al overnight camping\, followed by charter games on Sunday. Players will c
 hoose between insurgents\, mercenaries\, or UN peacekeepers in a high-tens
 ion scenario where every action matters.
ATTACH;FMTTYPE=image/jpeg:https://i0.wp.com/airsoftonlinejapan.com/wp-cont
 ent/uploads/2026/02/Shadow-Strike-2-Main.png?fit=1536%2C1024&ssl=1
CATEGORIES:Camping Event,Charter Game,Special Limited Event
LOCATION:Survival Game No.9\, 2517-1 Iwato\, Inzai\, Chiba\, 270-1616\, Kan
 to\, Japan
X-APPLE-STRUCTURED-LOCATION;VALUE=URI;X-ADDRESS=2517-1 Iwato\, Inzai\, Chib
 a\, 270-1616\, Kanto\, Japan;X-APPLE-RADIUS=100;X-TITLE=Survival Game No.9
 :geo:0,0
END:VEVENT
END:VCALENDAR